BEGIN:VCALENDAR
VERSION:2.0
PRODID:-//Four Georgians Elementary School - ECPv6.15.20//NONSGML v1.0//EN
CALSCALE:GREGORIAN
METHOD:PUBLISH
X-ORIGINAL-URL:https://fourgeorgians.helenaschools.org
X-WR-CALDESC:Events for Four Georgians Elementary School
REFRESH-INTERVAL;VALUE=DURATION:PT1H
X-Robots-Tag:noindex
X-PUBLISHED-TTL:PT1H
BEGIN:VTIMEZONE
TZID:America/Denver
BEGIN:DAYLIGHT
TZOFFSETFROM:-0700
TZOFFSETTO:-0600
TZNAME:MDT
DTSTART:20200308T090000
END:DAYLIGHT
BEGIN:STANDARD
TZOFFSETFROM:-0600
TZOFFSETTO:-0700
TZNAME:MST
DTSTART:20201101T080000
END:STANDARD
BEGIN:DAYLIGHT
TZOFFSETFROM:-0700
TZOFFSETTO:-0600
TZNAME:MDT
DTSTART:20210314T090000
END:DAYLIGHT
BEGIN:STANDARD
TZOFFSETFROM:-0600
TZOFFSETTO:-0700
TZNAME:MST
DTSTART:20211107T080000
END:STANDARD
BEGIN:DAYLIGHT
TZOFFSETFROM:-0700
TZOFFSETTO:-0600
TZNAME:MDT
DTSTART:20220313T090000
END:DAYLIGHT
BEGIN:STANDARD
TZOFFSETFROM:-0600
TZOFFSETTO:-0700
TZNAME:MST
DTSTART:20221106T080000
END:STANDARD
BEGIN:DAYLIGHT
TZOFFSETFROM:-0700
TZOFFSETTO:-0600
TZNAME:MDT
DTSTART:20230312T090000
END:DAYLIGHT
BEGIN:STANDARD
TZOFFSETFROM:-0600
TZOFFSETTO:-0700
TZNAME:MST
DTSTART:20231105T080000
END:STANDARD
BEGIN:DAYLIGHT
TZOFFSETFROM:-0700
TZOFFSETTO:-0600
TZNAME:MDT
DTSTART:20240310T090000
END:DAYLIGHT
BEGIN:STANDARD
TZOFFSETFROM:-0600
TZOFFSETTO:-0700
TZNAME:MST
DTSTART:20241103T080000
END:STANDARD
BEGIN:DAYLIGHT
TZOFFSETFROM:-0700
TZOFFSETTO:-0600
TZNAME:MDT
DTSTART:20250309T090000
END:DAYLIGHT
BEGIN:STANDARD
TZOFFSETFROM:-0600
TZOFFSETTO:-0700
TZNAME:MST
DTSTART:20251102T080000
END:STANDARD
END:VTIMEZONE
BEGIN:VEVENT
DTSTART;TZID=America/Denver:20240513T120000
DTEND;TZID=America/Denver:20240513T130000
DTSTAMP:20260420T195932
CREATED:20240422T194709Z
LAST-MODIFIED:20240513T232437Z
UID:23138-1715601600-1715605200@fourgeorgians.helenaschools.org
SUMMARY:Facilities & Technology Committee Meeting-May 13th\, 2024
DESCRIPTION:
URL:https://fourgeorgians.helenaschools.org/event/facilities-technology-committee-meeting-may-13th-2024/
LOCATION:Lincoln Center\, 1325 Poplar St\, Helena\, MT\, 59601\, United States
CATEGORIES:Board of Trustees Meeting,District Schedule,Facilities and Maintenance Committee
END:VEVENT
BEGIN:VEVENT
DTSTART;TZID=America/Denver:20240408T120000
DTEND;TZID=America/Denver:20240408T130000
DTSTAMP:20260420T195932
CREATED:20240404T162038Z
LAST-MODIFIED:20240408T171055Z
UID:23116-1712577600-1712581200@fourgeorgians.helenaschools.org
SUMMARY:Facilities and Maintenance Committee Meeting 4.8.24
DESCRIPTION:
URL:https://fourgeorgians.helenaschools.org/event/facilities-and-maintenance-committee-meeting-4-8-24/
LOCATION:Lincoln Center\, 1325 Poplar St\, Helena\, MT\, 59601\, United States
CATEGORIES:Board of Trustees Meeting,District Schedule,Facilities and Maintenance Committee
ORGANIZER;CN="Board of Trustees":MAILTO:boardoftrustees@helenaschools.org
END:VEVENT
BEGIN:VEVENT
DTSTART;TZID=America/Denver:20221205T120000
DTEND;TZID=America/Denver:20221205T130000
DTSTAMP:20260420T195932
CREATED:20221116T021536Z
LAST-MODIFIED:20221205T110836Z
UID:23062-1670241600-1670245200@fourgeorgians.helenaschools.org
SUMMARY:Facilities & Maintenance Committee Meeting 12.05.22
DESCRIPTION:
URL:https://fourgeorgians.helenaschools.org/event/facilities-maintenance-committee-meeting-12-05-22/
LOCATION:Lincoln Center\, 1325 Poplar St\, Helena\, MT\, 59601\, United States
CATEGORIES:Board of Trustees Meeting,District Schedule,Facilities and Maintenance Committee
ORGANIZER;CN="Board of Trustees":MAILTO:boardoftrustees@helenaschools.org
END:VEVENT
BEGIN:VEVENT
DTSTART;TZID=America/Denver:20221107T120000
DTEND;TZID=America/Denver:20221107T130000
DTSTAMP:20260420T195932
CREATED:20221011T173231Z
LAST-MODIFIED:20221107T231830Z
UID:23019-1667822400-1667826000@fourgeorgians.helenaschools.org
SUMMARY:Facilities and Maintenance Committee Meeting 11.07.22
DESCRIPTION:
URL:https://fourgeorgians.helenaschools.org/event/facilities-and-maintenance-committee-meeting-11-07-22/
LOCATION:Lincoln Center\, 1325 Poplar St\, Helena\, MT\, 59601\, United States
CATEGORIES:Board of Trustees Meeting,District Schedule,Facilities and Maintenance Committee
ORGANIZER;CN="Board of Trustees":MAILTO:boardoftrustees@helenaschools.org
END:VEVENT
BEGIN:VEVENT
DTSTART;TZID=America/Denver:20221003T120000
DTEND;TZID=America/Denver:20221003T130000
DTSTAMP:20260420T195932
CREATED:20220902T230409Z
LAST-MODIFIED:20221003T114025Z
UID:22971-1664798400-1664802000@fourgeorgians.helenaschools.org
SUMMARY:Facilities & Maintenance Committee Meeting 10.03.22
DESCRIPTION:
URL:https://fourgeorgians.helenaschools.org/event/facilities-maintenance-committee-meeting-10-03-22/
LOCATION:Lincoln Center\, 1325 Poplar St\, Helena\, MT\, 59601\, United States
CATEGORIES:Board of Trustees Meeting,District Schedule,Facilities and Maintenance Committee
ORGANIZER;CN="Board of Trustees":MAILTO:boardoftrustees@helenaschools.org
END:VEVENT
BEGIN:VEVENT
DTSTART;TZID=America/Denver:20220823T103000
DTEND;TZID=America/Denver:20220823T120000
DTSTAMP:20260420T195932
CREATED:20220811T125941Z
LAST-MODIFIED:20220823T192711Z
UID:22935-1661250600-1661256000@fourgeorgians.helenaschools.org
SUMMARY:Facilities and Maintenance Committee Meeting 08.23.22
DESCRIPTION:
URL:https://fourgeorgians.helenaschools.org/event/facilities-and-maintenance-committee-meeting-08-23-22/
LOCATION:Lincoln Center\, 1325 Poplar St\, Helena\, MT\, 59601\, United States
CATEGORIES:Board of Trustees Meeting,District Schedule,Facilities and Maintenance Committee
ORGANIZER;CN="Board of Trustees":MAILTO:boardoftrustees@helenaschools.org
END:VEVENT
BEGIN:VEVENT
DTSTART;TZID=America/Denver:20220307T120000
DTEND;TZID=America/Denver:20220307T130000
DTSTAMP:20260420T195932
CREATED:20220216T194543Z
LAST-MODIFIED:20220307T074746Z
UID:22725-1646654400-1646658000@fourgeorgians.helenaschools.org
SUMMARY:Facilities and Maintenance Committee Meeting 03.07.22
DESCRIPTION:Microsoft Teams meeting \nJoin on your computer or mobile app \nClick here to join the meeting \nOr call in (audio only) \n+1 406-272-9506\,\,893274825#   United States\, Billings \n(866) 790-3305\,\,893274825#   United States (Toll-free) \nPhone Conference ID: 893 274 825#
URL:https://fourgeorgians.helenaschools.org/event/facilities-and-maintenance-committee-meeting-03-07-22/
LOCATION:Lincoln Center\, 1325 Poplar St\, Helena\, MT\, 59601\, United States
CATEGORIES:Board of Trustees Meeting,District Schedule,Facilities and Maintenance Committee
ORGANIZER;CN="Board of Trustees":MAILTO:boardoftrustees@helenaschools.org
END:VEVENT
BEGIN:VEVENT
DTSTART;TZID=America/Denver:20220207T120000
DTEND;TZID=America/Denver:20220207T130000
DTSTAMP:20260420T195932
CREATED:20220108T075255Z
LAST-MODIFIED:20220207T180522Z
UID:22673-1644235200-1644238800@fourgeorgians.helenaschools.org
SUMMARY:Facilities and Maintenance Committee Meeting 02.07.22
DESCRIPTION:
URL:https://fourgeorgians.helenaschools.org/event/facilities-and-maintenance-committee-meeting-02-07-22/
LOCATION:Lincoln Center\, 1325 Poplar St\, Helena\, MT\, 59601\, United States
CATEGORIES:Board of Trustees Meeting,District Schedule,Facilities and Maintenance Committee
ORGANIZER;CN="Board of Trustees":MAILTO:boardoftrustees@helenaschools.org
END:VEVENT
BEGIN:VEVENT
DTSTART;TZID=America/Denver:20220110T120000
DTEND;TZID=America/Denver:20220110T130000
DTSTAMP:20260420T195932
CREATED:20211209T000454Z
LAST-MODIFIED:20220110T075306Z
UID:22634-1641816000-1641819600@fourgeorgians.helenaschools.org
SUMMARY:Facilities & Maintenance Committee Meeting 01.10.22
DESCRIPTION:
URL:https://fourgeorgians.helenaschools.org/event/facilities-maintenance-committee-meeting-01-10-22/
LOCATION:Lincoln Center\, 1325 Poplar St\, Helena\, MT\, 59601\, United States
CATEGORIES:Board of Trustees Meeting,Facilities and Maintenance Committee
ORGANIZER;CN="Board of Trustees":MAILTO:boardoftrustees@helenaschools.org
END:VEVENT
BEGIN:VEVENT
DTSTART;TZID=America/Denver:20211213T120000
DTEND;TZID=America/Denver:20211213T130000
DTSTAMP:20260420T195932
CREATED:20211105T084719Z
LAST-MODIFIED:20211213T004114Z
UID:22591-1639396800-1639400400@fourgeorgians.helenaschools.org
SUMMARY:Facilities & Maintenance Committee Meeting 12.13.21
DESCRIPTION:Microsoft Teams meeting \n\n\n\nJoin on your computer or mobile app  \n\nClick here to join the meeting
URL:https://fourgeorgians.helenaschools.org/event/facilities-maintenance-committee-meeting-12-06-21/
CATEGORIES:Board of Trustees Meeting,Facilities and Maintenance Committee
ORGANIZER;CN="Board of Trustees":MAILTO:boardoftrustees@helenaschools.org
END:VEVENT
BEGIN:VEVENT
DTSTART;TZID=America/Denver:20211101T120000
DTEND;TZID=America/Denver:20211101T130000
DTSTAMP:20260420T195932
CREATED:20211007T155236Z
LAST-MODIFIED:20211101T045204Z
UID:22539-1635768000-1635771600@fourgeorgians.helenaschools.org
SUMMARY:Facilities & Maintenance Committee Meeting 11.01.21
DESCRIPTION:
URL:https://fourgeorgians.helenaschools.org/event/facilities-maintenance-committee-meeting-11-01-21/
LOCATION:May Butler Center\, 55 S Rodney Street\, Helena\, MT\, 59601\, United States
CATEGORIES:Board of Trustees Meeting,Facilities and Maintenance Committee
ORGANIZER;CN="Board of Trustees":MAILTO:boardoftrustees@helenaschools.org
END:VEVENT
END:VCALENDAR