BEGIN:VCALENDAR
VERSION:2.0
PRODID:-//Four Georgians Elementary School - ECPv6.15.20//NONSGML v1.0//EN
CALSCALE:GREGORIAN
METHOD:PUBLISH
X-WR-CALNAME:Four Georgians Elementary School
X-ORIGINAL-URL:https://fourgeorgians.helenaschools.org
X-WR-CALDESC:Events for Four Georgians Elementary School
REFRESH-INTERVAL;VALUE=DURATION:PT1H
X-Robots-Tag:noindex
X-PUBLISHED-TTL:PT1H
BEGIN:VTIMEZONE
TZID:America/Denver
BEGIN:DAYLIGHT
TZOFFSETFROM:-0700
TZOFFSETTO:-0600
TZNAME:MDT
DTSTART:20210314T090000
END:DAYLIGHT
BEGIN:STANDARD
TZOFFSETFROM:-0600
TZOFFSETTO:-0700
TZNAME:MST
DTSTART:20211107T080000
END:STANDARD
BEGIN:DAYLIGHT
TZOFFSETFROM:-0700
TZOFFSETTO:-0600
TZNAME:MDT
DTSTART:20220313T090000
END:DAYLIGHT
BEGIN:STANDARD
TZOFFSETFROM:-0600
TZOFFSETTO:-0700
TZNAME:MST
DTSTART:20221106T080000
END:STANDARD
BEGIN:DAYLIGHT
TZOFFSETFROM:-0700
TZOFFSETTO:-0600
TZNAME:MDT
DTSTART:20230312T090000
END:DAYLIGHT
BEGIN:STANDARD
TZOFFSETFROM:-0600
TZOFFSETTO:-0700
TZNAME:MST
DTSTART:20231105T080000
END:STANDARD
END:VTIMEZONE
BEGIN:VEVENT
DTSTART;TZID=America/Denver:20221003T120000
DTEND;TZID=America/Denver:20221003T130000
DTSTAMP:20260420T232009
CREATED:20220902T230409Z
LAST-MODIFIED:20221003T114025Z
UID:22971-1664798400-1664802000@fourgeorgians.helenaschools.org
SUMMARY:Facilities & Maintenance Committee Meeting 10.03.22
DESCRIPTION:
URL:https://fourgeorgians.helenaschools.org/event/facilities-maintenance-committee-meeting-10-03-22/
LOCATION:Lincoln Center\, 1325 Poplar St\, Helena\, MT\, 59601\, United States
CATEGORIES:Board of Trustees Meeting,District Schedule,Facilities and Maintenance Committee
ORGANIZER;CN="Board of Trustees":MAILTO:boardoftrustees@helenaschools.org
END:VEVENT
BEGIN:VEVENT
DTSTART;TZID=America/Denver:20221004T120000
DTEND;TZID=America/Denver:20221004T130000
DTSTAMP:20260420T232009
CREATED:20220902T230409Z
LAST-MODIFIED:20221004T130049Z
UID:22972-1664884800-1664888400@fourgeorgians.helenaschools.org
SUMMARY:Policy Committee Meeting 10.04.22
DESCRIPTION:
URL:https://fourgeorgians.helenaschools.org/event/policy-committee-meeting-10-04-22/
LOCATION:Lincoln Center\, 1325 Poplar St\, Helena\, MT\, 59601\, United States
CATEGORIES:Board of Trustees Meeting,District Schedule,Policy Committee
ORGANIZER;CN="Board of Trustees":MAILTO:boardoftrustees@helenaschools.org
END:VEVENT
BEGIN:VEVENT
DTSTART;TZID=America/Denver:20221005T120000
DTEND;TZID=America/Denver:20221005T130000
DTSTAMP:20260420T232009
CREATED:20220902T230409Z
LAST-MODIFIED:20221005T133123Z
UID:22973-1664971200-1664974800@fourgeorgians.helenaschools.org
SUMMARY:Teaching & Learning Committee Meeting 10.05.22
DESCRIPTION:
URL:https://fourgeorgians.helenaschools.org/event/teaching-learning-committee-meeting-10-05-22/
LOCATION:Lincoln Center\, 1325 Poplar St\, Helena\, MT\, 59601\, United States
CATEGORIES:Board of Trustees Meeting,District Schedule,Teaching and Learning Committee
ORGANIZER;CN="Board of Trustees":MAILTO:boardoftrustees@helenaschools.org
END:VEVENT
BEGIN:VEVENT
DTSTART;TZID=America/Denver:20221011T110000
DTEND;TZID=America/Denver:20221011T120000
DTSTAMP:20260420T232009
CREATED:20220902T230409Z
LAST-MODIFIED:20221011T173231Z
UID:22974-1665486000-1665489600@fourgeorgians.helenaschools.org
SUMMARY:Executive Committee Meeting 10.11.22
DESCRIPTION:
URL:https://fourgeorgians.helenaschools.org/event/executive-committee-meeting-10-11-22/
LOCATION:Lincoln Center\, 1325 Poplar St\, Helena\, MT\, 59601\, United States
CATEGORIES:Board of Trustees Meeting,District Schedule,Executive Session
ORGANIZER;CN="Board of Trustees":MAILTO:boardoftrustees@helenaschools.org
END:VEVENT
BEGIN:VEVENT
DTSTART;TZID=America/Denver:20221011T173000
DTEND;TZID=America/Denver:20221011T213000
DTSTAMP:20260420T232009
CREATED:20220902T230409Z
LAST-MODIFIED:20221011T173231Z
UID:22975-1665509400-1665523800@fourgeorgians.helenaschools.org
SUMMARY:Full Board Meeting 10.11.22
DESCRIPTION:
URL:https://fourgeorgians.helenaschools.org/event/full-board-meeting-10-11-22/
LOCATION:Lincoln Center\, 1325 Poplar St\, Helena\, MT\, 59601\, United States
CATEGORIES:Board of Trustees Meeting,District Schedule,Full Board Meeting
ORGANIZER;CN="Board of Trustees":MAILTO:boardoftrustees@helenaschools.org
END:VEVENT
BEGIN:VEVENT
DTSTART;TZID=America/Denver:20221025T114500
DTEND;TZID=America/Denver:20221025T140000
DTSTAMP:20260420T232009
CREATED:20220916T025507Z
LAST-MODIFIED:20221025T213352Z
UID:22991-1666698300-1666706400@fourgeorgians.helenaschools.org
SUMMARY:Board of Trustees Work Session-Helena High School-10.25.22
DESCRIPTION:
URL:https://fourgeorgians.helenaschools.org/event/board-of-trustees-work-session-helena-high-school-10-25-22/
LOCATION:Helena High School\, 1300 Billings Ave.\, Helena\, 59601
CATEGORIES:Board of Trustees Meeting,District Schedule,Work Session
ORGANIZER;CN="Board of Trustees":MAILTO:boardoftrustees@helenaschools.org
END:VEVENT
BEGIN:VEVENT
DTSTART;TZID=America/Denver:20221027T120000
DTEND;TZID=America/Denver:20221027T130000
DTSTAMP:20260420T232009
CREATED:20221013T174748Z
LAST-MODIFIED:20221017T183412Z
UID:23027-1666872000-1666875600@fourgeorgians.helenaschools.org
SUMMARY:Board of Trustees Special Board Meeting 10.27.22
DESCRIPTION:
URL:https://fourgeorgians.helenaschools.org/event/board-of-trustees-special-board-meeting-10-27-22/
LOCATION:Lincoln Center\, 1325 Poplar St\, Helena\, MT\, 59601\, United States
CATEGORIES:Board of Trustees Meeting,District Schedule,Special Meeting
ORGANIZER;CN="Board of Trustees":MAILTO:boardoftrustees@helenaschools.org
END:VEVENT
BEGIN:VEVENT
DTSTART;TZID=America/Denver:20221027T154500
DTEND;TZID=America/Denver:20221027T164500
DTSTAMP:20260420T232009
CREATED:20221020T190101Z
LAST-MODIFIED:20221027T220426Z
UID:23035-1666885500-1666889100@fourgeorgians.helenaschools.org
SUMMARY:Health and Benefits Committee Meeting 10.27.22
DESCRIPTION:
URL:https://fourgeorgians.helenaschools.org/event/health-and-benefits-committee-meeting-10-27-22/
LOCATION:Lincoln Center\, 1325 Poplar St\, Helena\, MT\, 59601\, United States
CATEGORIES:Board of Trustees Meeting,District Schedule,Health & Benefits Committee Meetings
ORGANIZER;CN="Board of Trustees":MAILTO:boardoftrustees@helenaschools.org
END:VEVENT
END:VCALENDAR