BEGIN:VCALENDAR
VERSION:2.0
PRODID:-//Four Georgians Elementary School - ECPv6.15.20//NONSGML v1.0//EN
CALSCALE:GREGORIAN
METHOD:PUBLISH
X-ORIGINAL-URL:https://fourgeorgians.helenaschools.org
X-WR-CALDESC:Events for Four Georgians Elementary School
REFRESH-INTERVAL;VALUE=DURATION:PT1H
X-Robots-Tag:noindex
X-PUBLISHED-TTL:PT1H
BEGIN:VTIMEZONE
TZID:America/Denver
BEGIN:DAYLIGHT
TZOFFSETFROM:-0700
TZOFFSETTO:-0600
TZNAME:MDT
DTSTART:20200308T090000
END:DAYLIGHT
BEGIN:STANDARD
TZOFFSETFROM:-0600
TZOFFSETTO:-0700
TZNAME:MST
DTSTART:20201101T080000
END:STANDARD
BEGIN:DAYLIGHT
TZOFFSETFROM:-0700
TZOFFSETTO:-0600
TZNAME:MDT
DTSTART:20210314T090000
END:DAYLIGHT
BEGIN:STANDARD
TZOFFSETFROM:-0600
TZOFFSETTO:-0700
TZNAME:MST
DTSTART:20211107T080000
END:STANDARD
BEGIN:DAYLIGHT
TZOFFSETFROM:-0700
TZOFFSETTO:-0600
TZNAME:MDT
DTSTART:20220313T090000
END:DAYLIGHT
BEGIN:STANDARD
TZOFFSETFROM:-0600
TZOFFSETTO:-0700
TZNAME:MST
DTSTART:20221106T080000
END:STANDARD
BEGIN:DAYLIGHT
TZOFFSETFROM:-0700
TZOFFSETTO:-0600
TZNAME:MDT
DTSTART:20230312T090000
END:DAYLIGHT
BEGIN:STANDARD
TZOFFSETFROM:-0600
TZOFFSETTO:-0700
TZNAME:MST
DTSTART:20231105T080000
END:STANDARD
END:VTIMEZONE
BEGIN:VEVENT
DTSTART;TZID=America/Denver:20220111T173000
DTEND;TZID=America/Denver:20220111T213000
DTSTAMP:20260421T071820
CREATED:20211209T000454Z
LAST-MODIFIED:20220111T080646Z
UID:22636-1641922200-1641936600@fourgeorgians.helenaschools.org
SUMMARY:Board of Trustees-Full Board Meeting 01.11.22
DESCRIPTION:
URL:https://fourgeorgians.helenaschools.org/event/board-of-trustees-full-board-meeting-01-11-22/
LOCATION:Lincoln Center\, 1325 Poplar St\, Helena\, MT\, 59601\, United States
CATEGORIES:Board of Trustees Meeting,Full Board Meeting
ORGANIZER;CN="Board of Trustees":MAILTO:boardoftrustees@helenaschools.org
END:VEVENT
BEGIN:VEVENT
DTSTART;TZID=America/Denver:20220111T110000
DTEND;TZID=America/Denver:20220111T120000
DTSTAMP:20260421T071820
CREATED:20211209T000454Z
LAST-MODIFIED:20220111T080646Z
UID:22635-1641898800-1641902400@fourgeorgians.helenaschools.org
SUMMARY:Executive Committee Meeting 01.11.22
DESCRIPTION:
URL:https://fourgeorgians.helenaschools.org/event/executive-committee-meeting-01-11-22/
LOCATION:Lincoln Center\, 1325 Poplar St\, Helena\, MT\, 59601\, United States
CATEGORIES:Board of Trustees Meeting,Executive Session
ORGANIZER;CN="Board of Trustees":MAILTO:boardoftrustees@helenaschools.org
END:VEVENT
BEGIN:VEVENT
DTSTART;TZID=America/Denver:20220110T120000
DTEND;TZID=America/Denver:20220110T130000
DTSTAMP:20260421T071820
CREATED:20211209T000454Z
LAST-MODIFIED:20220110T075306Z
UID:22634-1641816000-1641819600@fourgeorgians.helenaschools.org
SUMMARY:Facilities & Maintenance Committee Meeting 01.10.22
DESCRIPTION:
URL:https://fourgeorgians.helenaschools.org/event/facilities-maintenance-committee-meeting-01-10-22/
LOCATION:Lincoln Center\, 1325 Poplar St\, Helena\, MT\, 59601\, United States
CATEGORIES:Board of Trustees Meeting,Facilities and Maintenance Committee
ORGANIZER;CN="Board of Trustees":MAILTO:boardoftrustees@helenaschools.org
END:VEVENT
BEGIN:VEVENT
DTSTART;TZID=America/Denver:20220107T120000
DTEND;TZID=America/Denver:20220107T130000
DTSTAMP:20260421T071820
CREATED:20211209T000454Z
LAST-MODIFIED:20220107T074950Z
UID:22633-1641556800-1641560400@fourgeorgians.helenaschools.org
SUMMARY:Budget & Finance Committee Meeting 01.07.22
DESCRIPTION:
URL:https://fourgeorgians.helenaschools.org/event/budget-finance-committee-meeting-01-07-22/
LOCATION:Lincoln Center\, 1325 Poplar St\, Helena\, MT\, 59601\, United States
CATEGORIES:Board of Trustees Meeting,Budget and Finance Committee
ORGANIZER;CN="Board of Trustees":MAILTO:boardoftrustees@helenaschools.org
END:VEVENT
BEGIN:VEVENT
DTSTART;TZID=America/Denver:20220104T120000
DTEND;TZID=America/Denver:20220104T130000
DTSTAMP:20260421T071820
CREATED:20211209T000453Z
LAST-MODIFIED:20220104T062209Z
UID:22631-1641297600-1641301200@fourgeorgians.helenaschools.org
SUMMARY:Policy Committee Meeting 01.04.22
DESCRIPTION:
URL:https://fourgeorgians.helenaschools.org/event/policy-committee-meeting-01-04-22/
LOCATION:Lincoln Center\, 1325 Poplar St\, Helena\, MT\, 59601\, United States
CATEGORIES:Board of Trustees Meeting,Policy Committee
ORGANIZER;CN="Board of Trustees":MAILTO:boardoftrustees@helenaschools.org
END:VEVENT
BEGIN:VEVENT
DTSTART;TZID=America/Denver:20211214T173000
DTEND;TZID=America/Denver:20211214T203000
DTSTAMP:20260421T071820
CREATED:20211105T084718Z
LAST-MODIFIED:20211214T011529Z
UID:22588-1639503000-1639513800@fourgeorgians.helenaschools.org
SUMMARY:Full Board Meeting 12.14.21
DESCRIPTION:Microsoft Teams meeting \n\n\n\nJoin on your computer or mobile app  \n\nClick here to join the meeting
URL:https://fourgeorgians.helenaschools.org/event/full-board-meeting-12-14-21/
LOCATION:Lincoln Center\, 1325 Poplar St\, Helena\, MT\, 59601\, United States
CATEGORIES:Board of Trustees Meeting,Full Board Meeting
ORGANIZER;CN="Board of Trustees":MAILTO:boardoftrustees@helenaschools.org
END:VEVENT
BEGIN:VEVENT
DTSTART;TZID=America/Denver:20211214T110000
DTEND;TZID=America/Denver:20211214T120000
DTSTAMP:20260421T071820
CREATED:20211105T084719Z
LAST-MODIFIED:20211214T011529Z
UID:22593-1639479600-1639483200@fourgeorgians.helenaschools.org
SUMMARY:Executive Committee Meeting 12.14.21
DESCRIPTION:Microsoft Teams meeting \n\n\n\nJoin on your computer or mobile app  \n\nClick here to join the meeting
URL:https://fourgeorgians.helenaschools.org/event/executive-committee-meeting-12-14-21/
LOCATION:Lincoln Center\, 1325 Poplar St\, Helena\, MT\, 59601\, United States
CATEGORIES:Board of Trustees Meeting,Executive Session
ORGANIZER;CN="Board of Trustees":MAILTO:boardoftrustees@helenaschools.org
END:VEVENT
BEGIN:VEVENT
DTSTART;TZID=America/Denver:20211201T120000
DTEND;TZID=America/Denver:20211201T130000
DTSTAMP:20260421T071820
CREATED:20211105T084718Z
LAST-MODIFIED:20211201T222733Z
UID:22589-1638360000-1638363600@fourgeorgians.helenaschools.org
SUMMARY:Teaching & Learning Committee 12.01.21
DESCRIPTION:Microsoft Teams meeting \n\n\n\nJoin on your computer or mobile app  \n\nClick here to join the meeting
URL:https://fourgeorgians.helenaschools.org/event/teaching-learning-committee-12-01-21/
LOCATION:Lincoln Center\, 1325 Poplar St\, Helena\, MT\, 59601\, United States
CATEGORIES:Board of Trustees Meeting,Teaching and Learning Committee
ORGANIZER;CN="Board of Trustees":MAILTO:boardoftrustees@helenaschools.org
END:VEVENT
END:VCALENDAR